BEGIN:VCALENDAR
VERSION:2.0
PRODID:-//P.K. Yonge - ECPv6.15.16.1//NONSGML v1.0//EN
CALSCALE:GREGORIAN
METHOD:PUBLISH
X-WR-CALNAME:P.K. Yonge
X-ORIGINAL-URL:https://pkyonge.ufl.edu
X-WR-CALDESC:Events for P.K. Yonge
REFRESH-INTERVAL;VALUE=DURATION:PT1H
X-Robots-Tag:noindex
X-PUBLISHED-TTL:PT1H
BEGIN:VTIMEZONE
TZID:America/New_York
BEGIN:DAYLIGHT
TZOFFSETFROM:-0500
TZOFFSETTO:-0400
TZNAME:EDT
DTSTART:20250309T070000
END:DAYLIGHT
BEGIN:STANDARD
TZOFFSETFROM:-0400
TZOFFSETTO:-0500
TZNAME:EST
DTSTART:20251102T060000
END:STANDARD
BEGIN:DAYLIGHT
TZOFFSETFROM:-0500
TZOFFSETTO:-0400
TZNAME:EDT
DTSTART:20260308T070000
END:DAYLIGHT
BEGIN:STANDARD
TZOFFSETFROM:-0400
TZOFFSETTO:-0500
TZNAME:EST
DTSTART:20261101T060000
END:STANDARD
BEGIN:DAYLIGHT
TZOFFSETFROM:-0500
TZOFFSETTO:-0400
TZNAME:EDT
DTSTART:20270314T070000
END:DAYLIGHT
BEGIN:STANDARD
TZOFFSETFROM:-0400
TZOFFSETTO:-0500
TZNAME:EST
DTSTART:20271107T060000
END:STANDARD
END:VTIMEZONE
BEGIN:VEVENT
DTSTART;VALUE=DATE:20260420
DTEND;VALUE=DATE:20260421
DTSTAMP:20260420T174241
CREATED:20260220T185119Z
LAST-MODIFIED:20260420T023446Z
UID:10029289-1776643200-1776729599@pkyonge.ufl.edu
SUMMARY:Senior Project Day
DESCRIPTION:
URL:https://pkyonge.ufl.edu/calendar/senior-project-day/
END:VEVENT
BEGIN:VEVENT
DTSTART;VALUE=DATE:20260420
DTEND;VALUE=DATE:20260425
DTSTAMP:20260420T174241
CREATED:20250818T000550Z
LAST-MODIFIED:20260420T023446Z
UID:10000815-1776643200-1777075199@pkyonge.ufl.edu
SUMMARY:Volunteer Appreciation Week
DESCRIPTION:
URL:https://pkyonge.ufl.edu/calendar/volunteer-appreciation-week/
END:VEVENT
BEGIN:VEVENT
DTSTART;VALUE=DATE:20260421
DTEND;VALUE=DATE:20260422
DTSTAMP:20260420T174241
CREATED:20260402T232036Z
LAST-MODIFIED:20260420T023446Z
UID:10029311-1776729600-1776815999@pkyonge.ufl.edu
SUMMARY:Z to A Countdown: Z
DESCRIPTION:Wear zebra stripes or other zoo animal prints; wear lots of zippers
URL:https://pkyonge.ufl.edu/calendar/z-to-a-countdown-z/
END:VEVENT
BEGIN:VEVENT
DTSTART;TZID=America/New_York:20260421T173000
DTEND;TZID=America/New_York:20260421T190000
DTSTAMP:20260420T174241
CREATED:20250912T055356Z
LAST-MODIFIED:20260420T023447Z
UID:10012255-1776792600-1776798000@pkyonge.ufl.edu
SUMMARY:Elementary STEAM Night
DESCRIPTION:
URL:https://pkyonge.ufl.edu/calendar/elementary-steam-night/
END:VEVENT
BEGIN:VEVENT
DTSTART;TZID=America/New_York:20260421T183000
DTEND;TZID=America/New_York:20260421T193000
DTSTAMP:20260420T174241
CREATED:20260130T145153Z
LAST-MODIFIED:20260420T023445Z
UID:10029171-1776796200-1776799800@pkyonge.ufl.edu
SUMMARY:Thespian End-of-Year Celebration
DESCRIPTION:
URL:https://pkyonge.ufl.edu/calendar/thespian-end-of-year-celebration/
END:VEVENT
BEGIN:VEVENT
DTSTART;VALUE=DATE:20260422
DTEND;VALUE=DATE:20260423
DTSTAMP:20260420T174241
CREATED:20260402T232036Z
LAST-MODIFIED:20260420T023446Z
UID:10029309-1776816000-1776902399@pkyonge.ufl.edu
SUMMARY:Z to A Countdown: Y
DESCRIPTION:Wear yellow
URL:https://pkyonge.ufl.edu/calendar/z-to-a-countdown-y/
END:VEVENT
BEGIN:VEVENT
DTSTART;VALUE=DATE:20260423
DTEND;VALUE=DATE:20260424
DTSTAMP:20260420T174241
CREATED:20260402T232049Z
LAST-MODIFIED:20260420T023447Z
UID:10029313-1776902400-1776988799@pkyonge.ufl.edu
SUMMARY:Z to A Countdown: X
DESCRIPTION:Wear bones (x-rays)
URL:https://pkyonge.ufl.edu/calendar/z-to-a-countdown-x/
END:VEVENT
BEGIN:VEVENT
DTSTART;VALUE=DATE:20260424
DTEND;VALUE=DATE:20260425
DTSTAMP:20260420T174241
CREATED:20260402T232050Z
LAST-MODIFIED:20260420T023447Z
UID:10029315-1776988800-1777075199@pkyonge.ufl.edu
SUMMARY:Z to A Countdown: W
DESCRIPTION:Wear white or a wig
URL:https://pkyonge.ufl.edu/calendar/z-to-a-countdown-w/
END:VEVENT
BEGIN:VEVENT
DTSTART;TZID=America/New_York:20260424T080000
DTEND;TZID=America/New_York:20260424T163000
DTSTAMP:20260420T174241
CREATED:20260130T145154Z
LAST-MODIFIED:20260420T023446Z
UID:10029173-1777017600-1777048200@pkyonge.ufl.edu
SUMMARY:UF Chem-a-thon
DESCRIPTION:
URL:https://pkyonge.ufl.edu/calendar/uf-chem-a-thon/
END:VEVENT
BEGIN:VEVENT
DTSTART;TZID=America/New_York:20260425T090000
DTEND;TZID=America/New_York:20260425T120000
DTSTAMP:20260420T174241
CREATED:20260402T232050Z
LAST-MODIFIED:20260420T023447Z
UID:10029317-1777107600-1777118400@pkyonge.ufl.edu
SUMMARY:SGA Beautification Day
DESCRIPTION:
URL:https://pkyonge.ufl.edu/calendar/sga-beautification-day/
END:VEVENT
BEGIN:VEVENT
DTSTART;TZID=America/New_York:20260425T090000
DTEND;TZID=America/New_York:20260425T133000
DTSTAMP:20260420T174241
CREATED:20260130T145154Z
LAST-MODIFIED:20260420T023459Z
UID:10029175-1777107600-1777123800@pkyonge.ufl.edu
SUMMARY:SAT/ACT Test Prep Tutoring
DESCRIPTION:
URL:https://pkyonge.ufl.edu/calendar/sat-act-test-prep-tutoring-6/
END:VEVENT
BEGIN:VEVENT
DTSTART;VALUE=DATE:20260427
DTEND;VALUE=DATE:20260428
DTSTAMP:20260420T174241
CREATED:20260402T232052Z
LAST-MODIFIED:20260420T023459Z
UID:10029325-1777248000-1777334399@pkyonge.ufl.edu
SUMMARY:Senior Go Week: Dress Up Senioritis (PJs)
DESCRIPTION:
URL:https://pkyonge.ufl.edu/calendar/senior-go-week-dress-up-senioritis-pjs/
END:VEVENT
BEGIN:VEVENT
DTSTART;VALUE=DATE:20260427
DTEND;VALUE=DATE:20260428
DTSTAMP:20260420T174241
CREATED:20260402T232053Z
LAST-MODIFIED:20260420T023500Z
UID:10029327-1777248000-1777334399@pkyonge.ufl.edu
SUMMARY:Z to A Countdown: V
DESCRIPTION:Vocabulary day- dress up like a word you’ve learned this year\, wear a vest
URL:https://pkyonge.ufl.edu/calendar/z-to-a-countdown-v/
END:VEVENT
BEGIN:VEVENT
DTSTART;VALUE=DATE:20260427
DTEND;VALUE=DATE:20260502
DTSTAMP:20260420T174241
CREATED:20260402T232051Z
LAST-MODIFIED:20260420T023459Z
UID:10029319-1777248000-1777679999@pkyonge.ufl.edu
SUMMARY:Senior Go Week
DESCRIPTION:
URL:https://pkyonge.ufl.edu/calendar/senior-go-week-2/
END:VEVENT
BEGIN:VEVENT
DTSTART;VALUE=DATE:20260428
DTEND;VALUE=DATE:20260429
DTSTAMP:20260420T174241
CREATED:20260402T232051Z
LAST-MODIFIED:20260420T023500Z
UID:10029321-1777334400-1777420799@pkyonge.ufl.edu
SUMMARY:Senior Go Week: Dress Up (dress like fave teacher)
DESCRIPTION:
URL:https://pkyonge.ufl.edu/calendar/senior-go-week-dress-up-dress-like-fave-teacher/
END:VEVENT
BEGIN:VEVENT
DTSTART;VALUE=DATE:20260428
DTEND;VALUE=DATE:20260429
DTSTAMP:20260420T174241
CREATED:20260402T232052Z
LAST-MODIFIED:20260420T023500Z
UID:10029323-1777334400-1777420799@pkyonge.ufl.edu
SUMMARY:Z to A Countdown: U
DESCRIPTION:Wear UF gear – or something from your favorite university\, unicorn
URL:https://pkyonge.ufl.edu/calendar/z-to-a-countdown-u/
END:VEVENT
BEGIN:VEVENT
DTSTART;TZID=America/New_York:20260428T170000
DTEND;TZID=America/New_York:20260428T200000
DTSTAMP:20260420T174241
CREATED:20251206T043831Z
LAST-MODIFIED:20260420T023501Z
UID:10029117-1777395600-1777406400@pkyonge.ufl.edu
SUMMARY:Spirit Night: 8th Grade Bragging Rights
DESCRIPTION:
URL:https://pkyonge.ufl.edu/calendar/spirit-night-8th-grade-bragging-rights-3/
END:VEVENT
BEGIN:VEVENT
DTSTART;VALUE=DATE:20260429
DTEND;VALUE=DATE:20260430
DTSTAMP:20260420T174241
CREATED:20250401T150733Z
LAST-MODIFIED:20260420T023500Z
UID:10000409-1777420800-1777507199@pkyonge.ufl.edu
SUMMARY:eLearning Day Grades 8-12
DESCRIPTION:
URL:https://pkyonge.ufl.edu/calendar/e-learning-day-10/
END:VEVENT
BEGIN:VEVENT
DTSTART;VALUE=DATE:20260429
DTEND;VALUE=DATE:20260430
DTSTAMP:20260420T174241
CREATED:20260402T232108Z
LAST-MODIFIED:20260420T023517Z
UID:10029329-1777420800-1777507199@pkyonge.ufl.edu
SUMMARY:Z to A Countdown: T
DESCRIPTION:Twin or triplet day- Dress like a friend! \nOr wear tan or turquoise or a tutu
URL:https://pkyonge.ufl.edu/calendar/z-to-a-countdown-t/
END:VEVENT
BEGIN:VEVENT
DTSTART;TZID=America/New_York:20260429T080000
DTEND;TZID=America/New_York:20260429T120000
DTSTAMP:20260420T174241
CREATED:20260130T145155Z
LAST-MODIFIED:20260420T023500Z
UID:10029177-1777449600-1777464000@pkyonge.ufl.edu
SUMMARY:Mock Exam: AP Chemistry\, AP PreCalc\, & AP Calc
DESCRIPTION:
URL:https://pkyonge.ufl.edu/calendar/ap-chemistry-mock-exam/
END:VEVENT
BEGIN:VEVENT
DTSTART;TZID=America/New_York:20260429T121500
DTEND;TZID=America/New_York:20260429T131500
DTSTAMP:20260420T174241
CREATED:20260402T232108Z
LAST-MODIFIED:20260420T023501Z
UID:10029331-1777464900-1777468500@pkyonge.ufl.edu
SUMMARY:Admitted Kindergarten Parent Welcome
DESCRIPTION:
URL:https://pkyonge.ufl.edu/calendar/admitted-kindergarten-parent-welcome/
END:VEVENT
BEGIN:VEVENT
DTSTART;TZID=America/New_York:20260429T173000
DTEND;TZID=America/New_York:20260429T183000
DTSTAMP:20260420T174241
CREATED:20260327T203640Z
LAST-MODIFIED:20260420T023518Z
UID:10029301-1777483800-1777487400@pkyonge.ufl.edu
SUMMARY:SGA Induction
DESCRIPTION:
URL:https://pkyonge.ufl.edu/calendar/sga-induction-2/
END:VEVENT
BEGIN:VEVENT
DTSTART;TZID=America/New_York:20260429T183000
DTEND;TZID=America/New_York:20260429T193000
DTSTAMP:20260420T174241
CREATED:20250818T000550Z
LAST-MODIFIED:20260420T023518Z
UID:10000817-1777487400-1777491000@pkyonge.ufl.edu
SUMMARY:6/7 VDA & Elementary Chorus Spring Concert
DESCRIPTION:
URL:https://pkyonge.ufl.edu/calendar/6-7-vda-elementary-chorus-spring-concert/
END:VEVENT
BEGIN:VEVENT
DTSTART;VALUE=DATE:20260430
DTEND;VALUE=DATE:20260501
DTSTAMP:20260420T174241
CREATED:20250818T000550Z
LAST-MODIFIED:20260420T023518Z
UID:10000819-1777507200-1777593599@pkyonge.ufl.edu
SUMMARY:Testing: Florida Civics Literacy Exam\, All students in US Government and AP US Government
DESCRIPTION:
URL:https://pkyonge.ufl.edu/calendar/testing-florida-civics-literacy-exam-all-students-in-us-government-and-ap-us-government/
END:VEVENT
BEGIN:VEVENT
DTSTART;VALUE=DATE:20260430
DTEND;VALUE=DATE:20260501
DTSTAMP:20260420T174241
CREATED:20260402T232109Z
LAST-MODIFIED:20260420T023518Z
UID:10029333-1777507200-1777593599@pkyonge.ufl.edu
SUMMARY:Senior Go Week: Dress Up (dress like childhood self)
DESCRIPTION:
URL:https://pkyonge.ufl.edu/calendar/senior-go-week-dress-up-dress-like-childhood-self/
END:VEVENT
BEGIN:VEVENT
DTSTART;VALUE=DATE:20260430
DTEND;VALUE=DATE:20260501
DTSTAMP:20260420T174241
CREATED:20260402T232110Z
LAST-MODIFIED:20260420T023518Z
UID:10029337-1777507200-1777593599@pkyonge.ufl.edu
SUMMARY:Z to A Countdown: S
DESCRIPTION:Story Book Character or Superhero Dress Up \nOr wear stripes or silly socks
URL:https://pkyonge.ufl.edu/calendar/z-to-a-countdown-s/
END:VEVENT
BEGIN:VEVENT
DTSTART;VALUE=DATE:20260501
DTEND;VALUE=DATE:20260502
DTSTAMP:20260420T174241
CREATED:20260402T232110Z
LAST-MODIFIED:20260420T023518Z
UID:10029335-1777593600-1777679999@pkyonge.ufl.edu
SUMMARY:Z to A Countdown: R
DESCRIPTION:Wear red or a rainbow
URL:https://pkyonge.ufl.edu/calendar/z-to-a-countdown-r/
END:VEVENT
BEGIN:VEVENT
DTSTART;VALUE=DATE:20260501
DTEND;VALUE=DATE:20260502
DTSTAMP:20260420T174241
CREATED:20260402T232130Z
LAST-MODIFIED:20260420T023519Z
UID:10029339-1777593600-1777679999@pkyonge.ufl.edu
SUMMARY:Senior Go Week: Dress Up (enroll\, enlist\, employ)
DESCRIPTION:
URL:https://pkyonge.ufl.edu/calendar/senior-go-week-dress-up-enroll-enlist-employ/
END:VEVENT
BEGIN:VEVENT
DTSTART;VALUE=DATE:20260502
DTEND;VALUE=DATE:20260503
DTSTAMP:20260420T174241
CREATED:20250604T161607Z
LAST-MODIFIED:20260420T023519Z
UID:10000557-1777680000-1777766399@pkyonge.ufl.edu
SUMMARY:SAT Test Date
DESCRIPTION:Registration and Cost Info: https://satsuite.collegeboard.org/sat/dates-deadlines
URL:https://pkyonge.ufl.edu/calendar/sat-test-date-7/
END:VEVENT
BEGIN:VEVENT
DTSTART;VALUE=DATE:20260502
DTEND;VALUE=DATE:20260503
DTSTAMP:20260420T174241
CREATED:20250604T161607Z
LAST-MODIFIED:20260420T023519Z
UID:10000559-1777680000-1777766399@pkyonge.ufl.edu
SUMMARY:Prom
DESCRIPTION:
URL:https://pkyonge.ufl.edu/calendar/prom-2/
END:VEVENT
END:VCALENDAR